BEGIN:VCALENDAR
VERSION:2.0
PRODID:-//Jewish Federation of Metropolitan Detroit - ECPv6.9.0//NONSGML v1.0//EN
CALSCALE:GREGORIAN
METHOD:PUBLISH
X-WR-CALNAME:Jewish Federation of Metropolitan Detroit
X-ORIGINAL-URL:https://2019.jewishdetroit.org
X-WR-CALDESC:Events for Jewish Federation of Metropolitan Detroit
REFRESH-INTERVAL;VALUE=DURATION:PT1H
X-Robots-Tag:noindex
X-PUBLISHED-TTL:PT1H
BEGIN:VTIMEZONE
TZID:America/Detroit
BEGIN:DAYLIGHT
TZOFFSETFROM:-0500
TZOFFSETTO:-0400
TZNAME:EDT
DTSTART:20250309T070000
END:DAYLIGHT
BEGIN:STANDARD
TZOFFSETFROM:-0400
TZOFFSETTO:-0500
TZNAME:EST
DTSTART:20251102T060000
END:STANDARD
END:VTIMEZONE
BEGIN:VEVENT
DTSTART;TZID=America/Detroit:20250116T190000
DTEND;TZID=America/Detroit:20250116T210000
DTSTAMP:20260419T093857
CREATED:20241219T215902Z
LAST-MODIFIED:20250116T155335Z
UID:10000378-1737054000-1737061200@2019.jewishdetroit.org
SUMMARY:Curating Style: An Interior Design Conversation and Craft with Alexandra June and Sissy Yellen
DESCRIPTION:Join YWP for an evening dedicated to selecting and styling the perfect accents\nfor your space with the interior design experts from Alexandra June at the\nMichigan Design Center. We’ll be joined by owner Brittany Elliott and interior\ndesigner Sissy Yellen who will guide us on how to curate our home decor and\ncreate spaces that celebrate the objects we love. We’ll also be making a\nlittle home decor of our own\, which you’ll be able to take home and\nprofessionally place thanks to all the insight you’ll gain at the event. Enjoy\ntime to shop Alexandra June’s collection with 15% of sales going to\nFederation’s Annual Campaign. \n$55 per person includes home decor craft\, drinks and light bites.\nDietary laws observed. \nPlease RSVP by January 13. \nThis event is intended for women in their 30s and 40s. \nThank you to our leadership:\nTracie Fienman and Samantha Foon\, Chairs\nLisa Rothberger and Jennifer Kravis\, Associate Co-Chairs\nIlana Liss\, WP Liaison \nView event on Jlive: https://jlive.app/events/10067
URL:https://2019.jewishdetroit.org/event/curating-style-an-interior-design-conversation-and-craft-with-alexandra-june-and-sissy-yellen/
LOCATION:Michigan Design Center 1700 Stutz Dr\, Troy
CATEGORIES:Women's Philanthropy
ATTACH;FMTTYPE=image/jpeg:https://2019.jewishdetroit.org/wp-content/uploads/2024/12/25_YWP_InteriorDesign_DigitalBanners_960x600_JLive-7581yF.tmp_.jpg
ORGANIZER;CN="Jewish Federation Young Women's Philanthropy":MAILTO:feld@jfmd.org
END:VEVENT
BEGIN:VEVENT
DTSTART;TZID=America/Detroit:20250123T190000
DTEND;TZID=America/Detroit:20250123T210000
DTSTAMP:20260419T093857
CREATED:20250113T144632Z
LAST-MODIFIED:20250123T173428Z
UID:10000386-1737658800-1737666000@2019.jewishdetroit.org
SUMMARY:A Global (Ent)wine Tasting
DESCRIPTION:Join NEXTGen Detroit and JDC Entwine for a global wine tasting that will give\nyou a closer look at some beautiful Jewish communities around the world\, the\nwines that hail from those regions\, and upcoming opportunities to travel to\nthese locations and others! Federation’s in-house sommelier (yes\, we have one)\nMichelle Turnbull will guide our tasting of wines from Israel\, Georgia and the\nFormer Soviet Union\, Moldova and the Balkans\, and Argentina and Latin America\,\nwhich will be paired with some light nosh. L’chaim to tryin’ some new wines! \n$25 per person includes wine tasting and snacks.\nA kosher option is available upon request. \nThis event is intended for young adults ages 21 to 39. \n**About JDC Entwine**\nJDC Entwine is building a generation of young Jews who lead and live a life of\naction with global Jewish responsibility at its core. We offer transformative\nglobal service and travel experiences\, innovative educational programs\, and\ntailored leadership development opportunities through which young people can\nexplore\, find meaning\, and take action. Entwine is an initiative of JDC\, the\nlargest Jewish humanitarian organization in the world. \nThank you to our event co-chairs (all of whom are JDC Entwine trip alumni):\nBen Blumenstein\nJordan Robinson\nAbby Rubin\nGabi Walker \nView event on Jlive: https://jlive.app/events/10198
URL:https://2019.jewishdetroit.org/event/a-global-entwine-tasting/
LOCATION:The Royce Detroit 76 W Adams Ave\, Detroit
CATEGORIES:NEXTGen Detroit
ATTACH;FMTTYPE=image/jpeg:https://2019.jewishdetroit.org/wp-content/uploads/2025/01/25_NXG_JDC_Entwine_960x600_JLive-0MUSe0.tmp_.jpg
ORGANIZER;CN="Jewish Federation NEXTGen Detroit":MAILTO:nextgendetroit@jfmd.org
END:VEVENT
BEGIN:VEVENT
DTSTART;TZID=America/Detroit:20250124T073000
DTEND;TZID=America/Detroit:20250124T093000
DTSTAMP:20260419T093857
CREATED:20250113T144631Z
LAST-MODIFIED:20250123T183528Z
UID:10000385-1737703800-1737711000@2019.jewishdetroit.org
SUMMARY:JWWN's Pure Networking
DESCRIPTION:Pure Networking\, Jewish Working Women’s Network’s wildly popular networking\nevent\, is ready to kick off 2025 on the west side at one of Federation’s\npremier partner agencies — Hechtman Apartments. Come for breakfast and the\nopportunity to connect with fellow female professionals from a variety of\nsectors and backgrounds. Drop in anytime between 7:30 and 9:30 AM. This Pure\nNetworking is sponsored by Jewish Senior Life. \n$10 includes breakfast and valet.\nDietary laws observed.\nPlease register in advance by January 23. \nThank you to our Leadership:\nLeigh Moss and Melissa Weisberger\, Chairs\, Jewish Working Women’s Network\nAndrea Rokicsak and Amy Strauss\, Associate Chairs\, Jewish Working Women’s\nNetwork\nStacy Doctoroff\, VP for Jewish Working Women’s Network \nView event on Jlive: https://jlive.app/events/10222
URL:https://2019.jewishdetroit.org/event/jwwns-pure-networking/
LOCATION:Hechtman Apartments – Independent Living 6690 W Maple Rd\,
CATEGORIES:Women's Philanthropy
ATTACH;FMTTYPE=image/jpeg:https://2019.jewishdetroit.org/wp-content/uploads/2025/01/960x600_JLive-GzYcbr.tmp_.jpg
ORGANIZER;CN="Jewish Federation Working Women's Network":MAILTO:bloomberg@jfmd.org
END:VEVENT
BEGIN:VEVENT
DTSTART;TZID=America/Detroit:20250124T090000
DTEND;TZID=America/Detroit:20250124T100000
DTSTAMP:20260419T093857
CREATED:20241225T163110Z
LAST-MODIFIED:20250124T145625Z
UID:10000381-1737709200-1737712800@2019.jewishdetroit.org
SUMMARY:Cafe Ivrit
DESCRIPTION:**Shalom! Ready to brush up on your Hebrew?**   \nJoin Federation’s Israeli Community Shlicha\, Lior Zisser-Yogev\, for a\ndelightful new experience: _Cafe Ivrit_! This informal gathering offers the\nperfect opportunity to practice your Hebrew over a cup of coffee with others\nfrom our Detroit Jewish community. _Cafe Ivrit_ meets once a month in January\nand February\, to provide a fun way to connect and converse in Hebrew. \nPlease note: _Cafe Ivrit_ is not a formal Hebrew class\, so some basic\nknowledge of the language is recommended. Whether you’re a beginner or more\nadvanced\, all are welcome to join! \nאנו מצפים לראותך (We look forward to seeing you.) \nView event on Jlive: https://jlive.app/events/10181
URL:https://2019.jewishdetroit.org/event/cafe-ivrit/
LOCATION:Jewish Federation of Detroit 6735 Telegraph Rd\, Bloomfield Hills
CATEGORIES:Israel and Overseas
ATTACH;FMTTYPE=image/jpeg:https://2019.jewishdetroit.org/wp-content/uploads/2024/12/24_IO_CafeIvrit_960x600_JLive-0CBqRU.tmp_.jpg
ORGANIZER;CN="Jewish Federation Israel and Overseas":MAILTO:leket@jfmd.org
END:VEVENT
BEGIN:VEVENT
DTSTART;TZID=America/Detroit:20250126T130000
DTEND;TZID=America/Detroit:20250126T143000
DTSTAMP:20260419T093857
CREATED:20241231T231259Z
LAST-MODIFIED:20250126T164945Z
UID:10000383-1737896400-1737901800@2019.jewishdetroit.org
SUMMARY:Packing with Purpose
DESCRIPTION:Join Women’s Philanthropy’s Tikkun Olam Volunteers (TOV) for an afternoon of\npacking with purpose. We’ll be assembling soup making kits (with supplies\nprovided by Metro Food Rescue) and hygiene totes (facilitated by Dignity\nGrows) for Hospitality House Food Pantry\, whose mission is to minimize\ndeprivation in our community by providing food and assistance to those in\nneed\, while maintaining the utmost respect for the dignity of the individual.\nIn addition to this hands-on volunteer project\, you’ll also have the\nopportunity to learn a bit about all three of these important organizations.\nMore about Metro Food Rescue\nMetro Food Rescue rescues food that would otherwise be discarded and delivers\nit to a network of food pantries\, thereby helping to feed individuals and\nfamilies in need.\nMore about Dignity Grows\nDignity Grows works to combat period poverty by providing girls and women with\nthe hygiene products needed to participate in work\, school and everyday life\nduring menstruation.\nThis event is being offered at no cost\, but if you would like to make a\nfinancial contribution to cover the cost of the soup making kits\, you can do\nso when you register. You’re also welcome to bring non-perishable food items\nto donate to Metro Food Rescue.\nThis event is intended for women of all ages. Children 10 years or older can\nattend if they would like to make cards for the packages.\n**Thank you to our Leadership:**\nShirley Blondy\, Robyn Glasser\, Abby Rubin\, Becca Schostak\, TOV Chairs\nBarbie Zaltz\, Women’s Philanthropy Vice President\nNancy Glen\, Women’s Philanthropy President\nShelly Rubenfire\, Women’s Philanthropy Campaign Chair \nView event on Jlive: https://jlive.app/events/10183
URL:https://2019.jewishdetroit.org/event/packing-with-purpose/
LOCATION:Max M. Fisher Federation Building 6735 Telegraph Rd\,
CATEGORIES:Women's Philanthropy
ATTACH;FMTTYPE=image/jpeg:https://2019.jewishdetroit.org/wp-content/uploads/2024/12/25_WP_TOV_PackingWithaPurpose_DigitalBanners_960x600_JLive-1xly9T.tmp_.jpg
ORGANIZER;CN="Jewish Federation Women%E2%80%99s Philanthropy":MAILTO:kaneistein@jfmd.org
END:VEVENT
END:VCALENDAR