BEGIN:VCALENDAR
VERSION:2.0
PRODID:-//Jewish Federation of Metropolitan Detroit - ECPv6.9.0//NONSGML v1.0//EN
CALSCALE:GREGORIAN
METHOD:PUBLISH
X-WR-CALNAME:Jewish Federation of Metropolitan Detroit
X-ORIGINAL-URL:https://2019.jewishdetroit.org
X-WR-CALDESC:Events for Jewish Federation of Metropolitan Detroit
REFRESH-INTERVAL;VALUE=DURATION:PT1H
X-Robots-Tag:noindex
X-PUBLISHED-TTL:PT1H
BEGIN:VTIMEZONE
TZID:America/Detroit
BEGIN:DAYLIGHT
TZOFFSETFROM:-0500
TZOFFSETTO:-0400
TZNAME:EDT
DTSTART:20250309T070000
END:DAYLIGHT
BEGIN:STANDARD
TZOFFSETFROM:-0400
TZOFFSETTO:-0500
TZNAME:EST
DTSTART:20251102T060000
END:STANDARD
END:VTIMEZONE
BEGIN:VEVENT
DTSTART;TZID=America/Detroit:20250211T183000
DTEND;TZID=America/Detroit:20250211T213000
DTSTAMP:20260419T185704
CREATED:20241230T225716Z
LAST-MODIFIED:20250210T183728Z
UID:10000382-1739298600-1739309400@2019.jewishdetroit.org
SUMMARY:Signature 2025: Featuring Tovah Feldshuh
DESCRIPTION:**Women’s Philanthropy’s premiere annual fundraising event**\nThis women-only evening celebrates our community and the profound impact that\nthe women of Jewish Detroit have in the world and on Federation’s Annual\nCampaign.\nCocktails\, wine\, lite bites and more! Dietary laws observed. \n**About Tovah**\nTovah Feldshuh\, who just celebrated her 50th year on Broadway\, is a six-time\nEmmy and Tony Award nominee\, four-time winner of the Drama Desk and Outer\nCritics Circle Awards and has been awarded three honorary Doctorates of Humane\nLetters.\nYou probably recognize her from the current Netflix hit _Nobody Wants This_.\nOr maybe you loved her on _Walking Dead  _or _My Crazy Ex-Girlfriend_. Or\nperhaps you’re a fan of her on stage in _Funny Girl\, Hello Dolly_  or _Golda’s\nBalcony_ \, to name just a fraction of the roles Tovah has brought to life.\nIn addition to her long and impressive stage and screen career\, Tovah is also\nthe creator and founder of The Feldshuh Fund for Women’s Health for early\ndetection of ovarian and all reproductive cancers.\nTovah will share how her Judaism has played a starring role in all aspects of\nher life — personal\, professional and philanthropical. \nView event on Jlive: https://jlive.app/events/10186
URL:https://2019.jewishdetroit.org/event/signature-2025-featuring-tovah-feldshuh/
LOCATION:Congregation Shaarey Zedek 27375 Bell Rd\, Southfield
CATEGORIES:Women's Philanthropy
ATTACH;FMTTYPE=image/jpeg:https://2019.jewishdetroit.org/wp-content/uploads/2024/12/25_WP_Signiture_Digital_Banners_960x600_JLive-ELRdAS.tmp_.jpg
ORGANIZER;CN="Jewish Federation Women%E2%80%99s Philanthropy":MAILTO:kaneistein@jfmd.org
END:VEVENT
END:VCALENDAR