BEGIN:VCALENDAR
VERSION:2.0
PRODID:-//Jewish Federation of Metropolitan Detroit - ECPv6.9.0//NONSGML v1.0//EN
CALSCALE:GREGORIAN
METHOD:PUBLISH
X-WR-CALNAME:Jewish Federation of Metropolitan Detroit
X-ORIGINAL-URL:https://2019.jewishdetroit.org
X-WR-CALDESC:Events for Jewish Federation of Metropolitan Detroit
REFRESH-INTERVAL;VALUE=DURATION:PT1H
X-Robots-Tag:noindex
X-PUBLISHED-TTL:PT1H
BEGIN:VTIMEZONE
TZID:America/Detroit
BEGIN:DAYLIGHT
TZOFFSETFROM:-0500
TZOFFSETTO:-0400
TZNAME:EDT
DTSTART:20250309T070000
END:DAYLIGHT
BEGIN:STANDARD
TZOFFSETFROM:-0400
TZOFFSETTO:-0500
TZNAME:EST
DTSTART:20251102T060000
END:STANDARD
END:VTIMEZONE
BEGIN:VEVENT
DTSTART;TZID=America/Detroit:20250211T183000
DTEND;TZID=America/Detroit:20250211T213000
DTSTAMP:20260419T122131
CREATED:20241230T225716Z
LAST-MODIFIED:20250210T183728Z
UID:10000382-1739298600-1739309400@2019.jewishdetroit.org
SUMMARY:Signature 2025: Featuring Tovah Feldshuh
DESCRIPTION:**Women’s Philanthropy’s premiere annual fundraising event**\nThis women-only evening celebrates our community and the profound impact that\nthe women of Jewish Detroit have in the world and on Federation’s Annual\nCampaign.\nCocktails\, wine\, lite bites and more! Dietary laws observed. \n**About Tovah**\nTovah Feldshuh\, who just celebrated her 50th year on Broadway\, is a six-time\nEmmy and Tony Award nominee\, four-time winner of the Drama Desk and Outer\nCritics Circle Awards and has been awarded three honorary Doctorates of Humane\nLetters.\nYou probably recognize her from the current Netflix hit _Nobody Wants This_.\nOr maybe you loved her on _Walking Dead  _or _My Crazy Ex-Girlfriend_. Or\nperhaps you’re a fan of her on stage in _Funny Girl\, Hello Dolly_  or _Golda’s\nBalcony_ \, to name just a fraction of the roles Tovah has brought to life.\nIn addition to her long and impressive stage and screen career\, Tovah is also\nthe creator and founder of The Feldshuh Fund for Women’s Health for early\ndetection of ovarian and all reproductive cancers.\nTovah will share how her Judaism has played a starring role in all aspects of\nher life — personal\, professional and philanthropical. \nView event on Jlive: https://jlive.app/events/10186
URL:https://2019.jewishdetroit.org/event/signature-2025-featuring-tovah-feldshuh/
LOCATION:Congregation Shaarey Zedek 27375 Bell Rd\, Southfield
CATEGORIES:Women's Philanthropy
ATTACH;FMTTYPE=image/jpeg:https://2019.jewishdetroit.org/wp-content/uploads/2024/12/25_WP_Signiture_Digital_Banners_960x600_JLive-ELRdAS.tmp_.jpg
ORGANIZER;CN="Jewish Federation Women%E2%80%99s Philanthropy":MAILTO:kaneistein@jfmd.org
END:VEVENT
BEGIN:VEVENT
DTSTART;TZID=America/Detroit:20250213T103000
DTEND;TZID=America/Detroit:20250213T114500
DTSTAMP:20260419T122131
CREATED:20250114T160325Z
LAST-MODIFIED:20250206T203104Z
UID:10000388-1739442600-1739447100@2019.jewishdetroit.org
SUMMARY:Digitization Deep Dive
DESCRIPTION:Looking to preserve your family memories for the digital age\, but not\nconfident in your computer skills? Then this workshop is for you! Over three\nweeks\, we’ll take you step-by-step from scanning photos to sharing files and\neverything in between. Start as a beginner and leave with the ability to: \n  * **Digitize** assorted media\, including documents\, photographs\, slides\, negatives\, DVDs\, VHS tapes\, and more.\n  * **Preserve** your digital files for the long-term and organize them for easy access.\n  * **Share** your precious family history with others through file sharing programs\, email\, and more.   \nEnjoy the whole series for just $18 or **FREE for**(https://jewishdetroit.org/friends-of-archives/)**.**   \nQuestions? Contact Robbie Terman at\n(https://mailto:terman@jewishdetroit.org) or\n248-203-1491 or Laura Gottlieb at\n(https://mailto:lgottlieb@tbeonline.org) or\n248-851-1100.\n** **\n**About the Presenters**\n**Robbie Terman** is the Director of the Leonard N. Simons Jewish Community\nArchives at the Jewish Federation of Detroit. **Laura Gottlieb** is the\nDirector of Cultural Resources at Temple Beth El where she oversees the Rabbi\nLeo M. Franklin Archives and Prentis Memorial Library. Both archivists hold a\nMaster of Library and Information Science and Certification in Archival\nAdministration from Wayne State University. Together\, Robbie and Laura like to\nteam up at the Jampel Center to bring history to life\, through engaging\nevents\, exhibits\, lectures\, and workshops. \nView event on Jlive: https://jlive.app/events/10323 \nClick here to join the livestream. https://jfmd-org.zoom.us/j/87353296684?pwd=oacyYg1X33qiRacV0qBGHS1DhYqQmO.1
URL:https://2019.jewishdetroit.org/event/digitization-deep-dive/
ATTACH;FMTTYPE=image/jpeg:https://2019.jewishdetroit.org/wp-content/uploads/2025/01/25_ARC_DigitizationDeepDive_DigitalBanners_960x600_JLive_1-crU3nl.tmp_.jpg
ORGANIZER;CN="Joan Meyers Jampel Center for Michigan Jewish Heritage":MAILTO:terman@jewishdetroit.org
END:VEVENT
BEGIN:VEVENT
DTSTART;TZID=America/Detroit:20250214T090000
DTEND;TZID=America/Detroit:20250214T100000
DTSTAMP:20260419T122131
CREATED:20250117T163743Z
LAST-MODIFIED:20250213T170115Z
UID:10000392-1739523600-1739527200@2019.jewishdetroit.org
SUMMARY:Cafe Ivrit
DESCRIPTION:**Shalom! Ready to brush up on your Hebrew?**   \nJoin Federation’s Israeli Community Shlicha\, Lior Zisser-Yogev\, for a\ndelightful new experience: _Cafe Ivrit_! This informal gathering offers the\nperfect opportunity to practice your Hebrew over a cup of coffee with others\nfrom our Detroit Jewish community. _Cafe Ivrit_ meets once a month in January\nand February\, to provide a fun way to connect and converse in Hebrew. \nPlease note: _Cafe Ivrit_ is not a formal Hebrew class\, so some basic\nknowledge of the language is recommended. Whether you’re a beginner or more\nadvanced\, all are welcome to join! \nאנו מצפים לראותך (We look forward to seeing you.) \nView event on Jlive: https://jlive.app/events/10181
URL:https://2019.jewishdetroit.org/event/cafe-ivrit-2/
LOCATION:Jewish Federation of Detroit 6735 Telegraph Rd\, Bloomfield Hills
CATEGORIES:Israel and Overseas
ATTACH;FMTTYPE=image/jpeg:https://2019.jewishdetroit.org/wp-content/uploads/2025/01/25_IO_CafeIvrit_960x600_JLive-tEd3f1.tmp_.jpg
ORGANIZER;CN="Jewish Federation Israel and Overseas":MAILTO:leket@jfmd.org
END:VEVENT
BEGIN:VEVENT
DTSTART;TZID=America/Detroit:20250220T103000
DTEND;TZID=America/Detroit:20250220T114500
DTSTAMP:20260419T122131
CREATED:20250114T160327Z
LAST-MODIFIED:20250206T203104Z
UID:10000389-1740047400-1740051900@2019.jewishdetroit.org
SUMMARY:Digitization Deep Dive
DESCRIPTION:Looking to preserve your family memories for the digital age\, but not\nconfident in your computer skills? Then this workshop is for you! Over three\nweeks\, we’ll take you step-by-step from scanning photos to sharing files and\neverything in between. Start as a beginner and leave with the ability to: \n  * **Digitize** assorted media\, including documents\, photographs\, slides\, negatives\, DVDs\, VHS tapes\, and more.\n  * **Preserve** your digital files for the long-term and organize them for easy access.\n  * **Share** your precious family history with others through file sharing programs\, email\, and more.   \nEnjoy the whole series for just $18 or **FREE for**(https://jewishdetroit.org/friends-of-archives/)**.**   \nQuestions? Contact Robbie Terman at\n(https://mailto:terman@jewishdetroit.org) or\n248-203-1491 or Laura Gottlieb at\n(https://mailto:lgottlieb@tbeonline.org) or\n248-851-1100.\n** **\n**About the Presenters**\n**Robbie Terman** is the Director of the Leonard N. Simons Jewish Community\nArchives at the Jewish Federation of Detroit. **Laura Gottlieb** is the\nDirector of Cultural Resources at Temple Beth El where she oversees the Rabbi\nLeo M. Franklin Archives and Prentis Memorial Library. Both archivists hold a\nMaster of Library and Information Science and Certification in Archival\nAdministration from Wayne State University. Together\, Robbie and Laura like to\nteam up at the Jampel Center to bring history to life\, through engaging\nevents\, exhibits\, lectures\, and workshops. \nView event on Jlive: https://jlive.app/events/10323 \nClick here to join the livestream. https://jfmd-org.zoom.us/j/87353296684?pwd=oacyYg1X33qiRacV0qBGHS1DhYqQmO.1
URL:https://2019.jewishdetroit.org/event/digitization-deep-dive-2/
ATTACH;FMTTYPE=image/jpeg:https://2019.jewishdetroit.org/wp-content/uploads/2025/01/25_ARC_DigitizationDeepDive_DigitalBanners_960x600_JLive_1-crU3nl.tmp_.jpg
ORGANIZER;CN="Joan Meyers Jampel Center for Michigan Jewish Heritage":MAILTO:terman@jewishdetroit.org
END:VEVENT
BEGIN:VEVENT
DTSTART;TZID=America/Detroit:20250227T103000
DTEND;TZID=America/Detroit:20250227T114500
DTSTAMP:20260419T122131
CREATED:20250114T160327Z
LAST-MODIFIED:20250206T203104Z
UID:10000390-1740652200-1740656700@2019.jewishdetroit.org
SUMMARY:Digitization Deep Dive
DESCRIPTION:Looking to preserve your family memories for the digital age\, but not\nconfident in your computer skills? Then this workshop is for you! Over three\nweeks\, we’ll take you step-by-step from scanning photos to sharing files and\neverything in between. Start as a beginner and leave with the ability to: \n  * **Digitize** assorted media\, including documents\, photographs\, slides\, negatives\, DVDs\, VHS tapes\, and more.\n  * **Preserve** your digital files for the long-term and organize them for easy access.\n  * **Share** your precious family history with others through file sharing programs\, email\, and more.   \nEnjoy the whole series for just $18 or **FREE for**(https://jewishdetroit.org/friends-of-archives/)**.**   \nQuestions? Contact Robbie Terman at\n(https://mailto:terman@jewishdetroit.org) or\n248-203-1491 or Laura Gottlieb at\n(https://mailto:lgottlieb@tbeonline.org) or\n248-851-1100.\n** **\n**About the Presenters**\n**Robbie Terman** is the Director of the Leonard N. Simons Jewish Community\nArchives at the Jewish Federation of Detroit. **Laura Gottlieb** is the\nDirector of Cultural Resources at Temple Beth El where she oversees the Rabbi\nLeo M. Franklin Archives and Prentis Memorial Library. Both archivists hold a\nMaster of Library and Information Science and Certification in Archival\nAdministration from Wayne State University. Together\, Robbie and Laura like to\nteam up at the Jampel Center to bring history to life\, through engaging\nevents\, exhibits\, lectures\, and workshops. \nView event on Jlive: https://jlive.app/events/10323 \nClick here to join the livestream. https://jfmd-org.zoom.us/j/87353296684?pwd=oacyYg1X33qiRacV0qBGHS1DhYqQmO.1
URL:https://2019.jewishdetroit.org/event/digitization-deep-dive-3/
ATTACH;FMTTYPE=image/jpeg:https://2019.jewishdetroit.org/wp-content/uploads/2025/01/25_ARC_DigitizationDeepDive_DigitalBanners_960x600_JLive_1-crU3nl.tmp_.jpg
ORGANIZER;CN="Joan Meyers Jampel Center for Michigan Jewish Heritage":MAILTO:terman@jewishdetroit.org
END:VEVENT
BEGIN:VEVENT
DTSTART;TZID=America/Detroit:20250301T200000
DTEND;TZID=America/Detroit:20250301T233000
DTSTAMP:20260419T122131
CREATED:20250124T173557Z
LAST-MODIFIED:20250301T232059Z
UID:10000393-1740859200-1740871800@2019.jewishdetroit.org
SUMMARY:EPIC: A Celebration 13 Years in the Making
DESCRIPTION:You’re invited to the B’nai Mitzvah party of the year! Please join us for a\nnight of nostalgia\, cocktails\, food\, music and more as we support the Jewish\nFederation of Detroit’s 2025 Annual Campaign at NEXTGen Detroit’s EPIC B’nai\nMitzvah. \nCocktail attire.\nDietary laws observed. All food provided by Quality Kosher Catering\nThis event is intended for young adults ages 21 to 39. \n**$36**  per person until February 4.\n**$50**  per person until February 28 at 11:59am\n**$60**  Beginning February 28 at 12pm \nIn addition to the cost of a ticket\, **a minimum donation of $100 to the\nJewish Federation’s 2025 Annual Campaign**  is required to attend this event. \nYour gift will support the Jewish Federation and our 16 local and three\ninternational agencies that work to take care of the needs of the Jewish\npeople and build a vibrant Jewish future here in Detroit\, in Israel and around\nthe world. \nClick (https://jfmdorg.s3.us-west-2.amazonaws.com/wp-\ncontent/uploads/2024/10/10122422/24_JFD_Annual-Report_Digital-2.pdf) to view\nour Annual Report and learn more about the difference your gift makes. \nView event on Jlive: https://jlive.app/events/10542
URL:https://2019.jewishdetroit.org/event/epic-a-celebration-13-years-in-the-making/
LOCATION:The Townsend Hotel 100 Townsend St\, Birmingham\, United Kingdom
CATEGORIES:NEXTGen Detroit,Young Adults
ATTACH;FMTTYPE=image/jpeg:https://2019.jewishdetroit.org/wp-content/uploads/2025/01/25_NXG_EPIC_KEY_900x600-CqswsJ.tmp_.jpg
ORGANIZER;CN="Jewish Federation NEXTGen Detroit":MAILTO:nextgendetroit@jfmd.org
GEO:52.4813678;-1.8980725
END:VEVENT
BEGIN:VEVENT
DTSTART;TZID=America/Detroit:20250304T190000
DTEND;TZID=America/Detroit:20250304T210000
DTSTAMP:20260419T122131
CREATED:20250213T200201Z
LAST-MODIFIED:20250304T210106Z
UID:10000396-1741114800-1741122000@2019.jewishdetroit.org
SUMMARY:Drag Queen BINGO and Purim Party at Five15
DESCRIPTION:Celebrate Purim with our Affinities Pride group at Five15 for the most\nglamorous game of BINGO you’ve ever played! Unlike traditional Purim parties\,\nthis one is no masks allowed! In fact\, we’ll hear from a local expert who will\ndiscuss masking in the LGBTQ+ community and how it impacts our emotional and\nmental health. We’ll lean into the courage of Queen Esther\, take off those\nmasks and let our authentic selves shine through! Enjoy some fun nosh\,\nhamantaschen and drinks\, play for prizes and meet your fellow Jewish LGBTQ+\ncommunity members at this fun and festive night in Royal Oak! \nThank you to our Affinities Pride Chairs: Brian Kutinsky (he/him) & Kerri\nLanoue (she/her) \nView event on Jlive: https://jlive.app/events/10696
URL:https://2019.jewishdetroit.org/event/drag-queen-bingo-and-purim-party-at-five15/
LOCATION:Five15 Media\, Mojo and More 600 S Washington Ave\, Royal Oak
ATTACH;FMTTYPE=image/jpeg:https://2019.jewishdetroit.org/wp-content/uploads/2025/02/25_AFF_PRIDE_DragBingo_DigitalBanners_960x600_JLive_copy_2-30aoec.tmp_.jpg
ORGANIZER;CN="Jewish Federation Affinities":MAILTO:kaplan@jfmd.org
END:VEVENT
BEGIN:VEVENT
DTSTART;TZID=America/Detroit:20250306T193000
DTEND;TZID=America/Detroit:20250306T210000
DTSTAMP:20260419T122131
CREATED:20250218T220105Z
LAST-MODIFIED:20250305T235519Z
UID:10000402-1741289400-1741294800@2019.jewishdetroit.org
SUMMARY:The Sound Bath Experience
DESCRIPTION:Join NEXTGen Detroit Balance at Practice Yoga Studio for their signature Sound\nBath experience. We will immerse ourselves in the soothing and centering\nsounds of several instruments as we let the various vibrations bring us into a\nstate of deep relaxation. Incredible for stress release and renewing and\nrestoring calmness and wellbeing\, you won’t want to miss this therapeutic\nexperience for your body and soul. \n$20 per person includes one-hour sound bath session and one-week of yoga\nanytime in the month of March.\nPlease bring your own yoga mat or other floor covering (see more below).\nThis event is intended for young adults ages 21 to 39. \nRecommendations from Practice Yoga Studio:\nWear comfortable clothing. Plan to lay down to best enjoy the sound bath\nexperience. Bring a yoga mat or comfortable floor covering to provide a\ncushioned surface. Bring pillows\, bolsters\, blankets – whatever you need to\ncomfortably lay down for an hour. \nThank you to our Balance Co-Chairs: Meredith Berlin\, Gabi Walker and Ashley\nZlatopolsky \nView event on Jlive: https://jlive.app/events/10862
URL:https://2019.jewishdetroit.org/event/the-sound-bath-experience/
LOCATION:Practice Yoga Studio 2227 Cole St\, Birmingham\, United Kingdom
CATEGORIES:NEXTGen Detroit,Young Adults
ATTACH;FMTTYPE=image/jpeg:https://2019.jewishdetroit.org/wp-content/uploads/2025/02/25_NXG_Balance_DigitalBanners_960x600_JLive-PO3AOj.tmp_.jpg
ORGANIZER;CN="Jewish Federation NEXTGen Detroit":MAILTO:nextgendetroit@jfmd.org
GEO:52.4813678;-1.8980725
END:VEVENT
BEGIN:VEVENT
DTSTART;TZID=America/Detroit:20250311T180000
DTEND;TZID=America/Detroit:20250311T200000
DTSTAMP:20260419T122131
CREATED:20250213T225848Z
LAST-MODIFIED:20250311T141331Z
UID:10000397-1741716000-1741723200@2019.jewishdetroit.org
SUMMARY:JWWN's Pure Networking
DESCRIPTION:Jewish Working Women’s Network’s Pure Networking series is heading to Art +\nFrame in West Bloomfield for an evening edition of our wildly popular\nnetworking event. Come for light bites\, wine\, soft drinks and the opportunity\nto connect with fellow female professionals from a variety of sectors and\nbackgrounds. Drop in anytime between 6 and 8 PM. \n$18 per person.\nDietary laws observed.\nPlease register in advance by March 10. \nThank you to our Leadership:\nLeigh Moss and Melissa Weisberger\, Chairs\, Jewish Working Women’s Network\nAndrea Rokicsak and Amy Strauss\, Associate Chairs\, Jewish Working Women’s\nNetwork\nStacy Doctoroff\, VP for Jewish Working Women’s Network \nView event on Jlive: https://jlive.app/events/10611
URL:https://2019.jewishdetroit.org/event/jwwns-pure-networking-2/
LOCATION:ART + FRAME 4301 Orchard Lake Rd\, West Bloomfield
CATEGORIES:Women's Philanthropy
ATTACH;FMTTYPE=image/jpeg:https://2019.jewishdetroit.org/wp-content/uploads/2025/02/25_JWWN_PURE-NETWORKING_MARCH_960x600_JLive-ji651M.tmp_.jpg
ORGANIZER;CN="Jewish Federation Working Women's Network":MAILTO:bloomberg@jfmd.org
END:VEVENT
BEGIN:VEVENT
DTSTART;TZID=America/Detroit:20250311T180000
DTEND;TZID=America/Detroit:20250311T210000
DTSTAMP:20260419T122131
CREATED:20250212T200335Z
LAST-MODIFIED:20250311T220154Z
UID:10000394-1741716000-1741726800@2019.jewishdetroit.org
SUMMARY:A Pasta-tively Perfect Date Night
DESCRIPTION:Grab the ravi-only one for you and join us at Holiday Market’s Mirepoix\nCooking School for a pasta-tively perfect date night as we try our hand at\nmaking fresh pasta. Enjoy light bites and drinks as we mix\, knead\, shape and\nboil what could be penne-tentially the most amazing meal you’ll ever make! And\nof course\, we’ll sit down and enjoy our al dente dishes together. Pasta la\nvista there\, baby! \n$65 per person/ $130 per couple includes drinks\, appetizers\, dessert and the\npasta\, sauce and salads that we make.\nPlease RSVP before March 1.\nDairy\, vegetarian. Not certified kosher. \nThis event is intended for couples (married or dating) ages 40+. \nThank you to our Affinities Couples Chairs:\nLori and Ryan Hirsch\nBill and Dianne Goldstein \nView event on Jlive: https://jlive.app/events/10699
URL:https://2019.jewishdetroit.org/event/a-pasta-tively-perfect-date-night/
LOCATION:Mirepoix Cooking School 1203 S Main St\, Royal Oak
ATTACH;FMTTYPE=image/jpeg:https://2019.jewishdetroit.org/wp-content/uploads/2025/02/25_AFF_Pasta_Making_DigitalBanners_960x600_JLive-FR5rKi.tmp_.jpg
ORGANIZER;CN="Jewish Federation Affinities":MAILTO:kaplan@jfmd.org
END:VEVENT
BEGIN:VEVENT
DTSTART;TZID=America/Detroit:20250312T173000
DTEND;TZID=America/Detroit:20250312T190000
DTSTAMP:20260419T122131
CREATED:20250213T170114Z
LAST-MODIFIED:20250312T122219Z
UID:10000395-1741800600-1741806000@2019.jewishdetroit.org
SUMMARY:NEXTGen Detroit Volunteers at Michigan Animal Rescue League
DESCRIPTION:**This event is sold out. Please  **(https://jlive.app/events/10917)**  to register for the waitlist.**\n**﻿**\nJoin NEXTGen Detroit Volunteers as we lend a paw at MARL (Michigan Animal\nRescue League) making enrichment items that provide mental and physical\nexercise\, social interaction and sensory stimulation for the dogs on-site.\nWe’ll also get a tour of the beautiful space and have an opportunity to\ninteract with some of the pups! \nCost is $5 to attend this event.\nPlease RSVP no later than March 10. Space is limited! \nThis event is intended for young adults ages 21 to 39. \nThank you to our chairs: Jeff Sondheimer and Alyse Waldhorn \nView event on Jlive: https://jlive.app/events/10746
URL:https://2019.jewishdetroit.org/event/nextgen-detroit-volunteers-at-michigan-animal-rescue-league/
LOCATION:Michigan Animal Rescue League 790 Featherstone St\, Pontiac
CATEGORIES:NEXTGen Detroit
ATTACH;FMTTYPE=image/jpeg:https://2019.jewishdetroit.org/wp-content/uploads/2025/02/25_NXG_Volunteer-MARL_DigitalBanners_960x600_JLive-o1DTei.tmp_.jpg
ORGANIZER;CN="Jewish Federation NEXTGen Detroit":MAILTO:nextgendetroit@jfmd.org
END:VEVENT
END:VCALENDAR