BEGIN:VCALENDAR
VERSION:2.0
PRODID:-//Jewish Federation of Metropolitan Detroit - ECPv6.9.0//NONSGML v1.0//EN
CALSCALE:GREGORIAN
METHOD:PUBLISH
X-WR-CALNAME:Jewish Federation of Metropolitan Detroit
X-ORIGINAL-URL:https://2019.jewishdetroit.org
X-WR-CALDESC:Events for Jewish Federation of Metropolitan Detroit
REFRESH-INTERVAL;VALUE=DURATION:PT1H
X-Robots-Tag:noindex
X-PUBLISHED-TTL:PT1H
BEGIN:VTIMEZONE
TZID:America/Detroit
BEGIN:DAYLIGHT
TZOFFSETFROM:-0500
TZOFFSETTO:-0400
TZNAME:EDT
DTSTART:20250309T070000
END:DAYLIGHT
BEGIN:STANDARD
TZOFFSETFROM:-0400
TZOFFSETTO:-0500
TZNAME:EST
DTSTART:20251102T060000
END:STANDARD
END:VTIMEZONE
BEGIN:VEVENT
DTSTART;TZID=America/Detroit:20250301T200000
DTEND;TZID=America/Detroit:20250301T233000
DTSTAMP:20260419T154046
CREATED:20250124T173557Z
LAST-MODIFIED:20250301T232059Z
UID:10000393-1740859200-1740871800@2019.jewishdetroit.org
SUMMARY:EPIC: A Celebration 13 Years in the Making
DESCRIPTION:You’re invited to the B’nai Mitzvah party of the year! Please join us for a\nnight of nostalgia\, cocktails\, food\, music and more as we support the Jewish\nFederation of Detroit’s 2025 Annual Campaign at NEXTGen Detroit’s EPIC B’nai\nMitzvah. \nCocktail attire.\nDietary laws observed. All food provided by Quality Kosher Catering\nThis event is intended for young adults ages 21 to 39. \n**$36**  per person until February 4.\n**$50**  per person until February 28 at 11:59am\n**$60**  Beginning February 28 at 12pm \nIn addition to the cost of a ticket\, **a minimum donation of $100 to the\nJewish Federation’s 2025 Annual Campaign**  is required to attend this event. \nYour gift will support the Jewish Federation and our 16 local and three\ninternational agencies that work to take care of the needs of the Jewish\npeople and build a vibrant Jewish future here in Detroit\, in Israel and around\nthe world. \nClick (https://jfmdorg.s3.us-west-2.amazonaws.com/wp-\ncontent/uploads/2024/10/10122422/24_JFD_Annual-Report_Digital-2.pdf) to view\nour Annual Report and learn more about the difference your gift makes. \nView event on Jlive: https://jlive.app/events/10542
URL:https://2019.jewishdetroit.org/event/epic-a-celebration-13-years-in-the-making/
LOCATION:The Townsend Hotel 100 Townsend St\, Birmingham\, United Kingdom
CATEGORIES:NEXTGen Detroit,Young Adults
ATTACH;FMTTYPE=image/jpeg:https://2019.jewishdetroit.org/wp-content/uploads/2025/01/25_NXG_EPIC_KEY_900x600-CqswsJ.tmp_.jpg
ORGANIZER;CN="Jewish Federation NEXTGen Detroit":MAILTO:nextgendetroit@jfmd.org
GEO:52.4813678;-1.8980725
END:VEVENT
BEGIN:VEVENT
DTSTART;TZID=America/Detroit:20250304T190000
DTEND;TZID=America/Detroit:20250304T210000
DTSTAMP:20260419T154046
CREATED:20250213T200201Z
LAST-MODIFIED:20250304T210106Z
UID:10000396-1741114800-1741122000@2019.jewishdetroit.org
SUMMARY:Drag Queen BINGO and Purim Party at Five15
DESCRIPTION:Celebrate Purim with our Affinities Pride group at Five15 for the most\nglamorous game of BINGO you’ve ever played! Unlike traditional Purim parties\,\nthis one is no masks allowed! In fact\, we’ll hear from a local expert who will\ndiscuss masking in the LGBTQ+ community and how it impacts our emotional and\nmental health. We’ll lean into the courage of Queen Esther\, take off those\nmasks and let our authentic selves shine through! Enjoy some fun nosh\,\nhamantaschen and drinks\, play for prizes and meet your fellow Jewish LGBTQ+\ncommunity members at this fun and festive night in Royal Oak! \nThank you to our Affinities Pride Chairs: Brian Kutinsky (he/him) & Kerri\nLanoue (she/her) \nView event on Jlive: https://jlive.app/events/10696
URL:https://2019.jewishdetroit.org/event/drag-queen-bingo-and-purim-party-at-five15/
LOCATION:Five15 Media\, Mojo and More 600 S Washington Ave\, Royal Oak
ATTACH;FMTTYPE=image/jpeg:https://2019.jewishdetroit.org/wp-content/uploads/2025/02/25_AFF_PRIDE_DragBingo_DigitalBanners_960x600_JLive_copy_2-30aoec.tmp_.jpg
ORGANIZER;CN="Jewish Federation Affinities":MAILTO:kaplan@jfmd.org
END:VEVENT
BEGIN:VEVENT
DTSTART;TZID=America/Detroit:20250306T193000
DTEND;TZID=America/Detroit:20250306T210000
DTSTAMP:20260419T154046
CREATED:20250218T220105Z
LAST-MODIFIED:20250305T235519Z
UID:10000402-1741289400-1741294800@2019.jewishdetroit.org
SUMMARY:The Sound Bath Experience
DESCRIPTION:Join NEXTGen Detroit Balance at Practice Yoga Studio for their signature Sound\nBath experience. We will immerse ourselves in the soothing and centering\nsounds of several instruments as we let the various vibrations bring us into a\nstate of deep relaxation. Incredible for stress release and renewing and\nrestoring calmness and wellbeing\, you won’t want to miss this therapeutic\nexperience for your body and soul. \n$20 per person includes one-hour sound bath session and one-week of yoga\nanytime in the month of March.\nPlease bring your own yoga mat or other floor covering (see more below).\nThis event is intended for young adults ages 21 to 39. \nRecommendations from Practice Yoga Studio:\nWear comfortable clothing. Plan to lay down to best enjoy the sound bath\nexperience. Bring a yoga mat or comfortable floor covering to provide a\ncushioned surface. Bring pillows\, bolsters\, blankets – whatever you need to\ncomfortably lay down for an hour. \nThank you to our Balance Co-Chairs: Meredith Berlin\, Gabi Walker and Ashley\nZlatopolsky \nView event on Jlive: https://jlive.app/events/10862
URL:https://2019.jewishdetroit.org/event/the-sound-bath-experience/
LOCATION:Practice Yoga Studio 2227 Cole St\, Birmingham\, United Kingdom
CATEGORIES:NEXTGen Detroit,Young Adults
ATTACH;FMTTYPE=image/jpeg:https://2019.jewishdetroit.org/wp-content/uploads/2025/02/25_NXG_Balance_DigitalBanners_960x600_JLive-PO3AOj.tmp_.jpg
ORGANIZER;CN="Jewish Federation NEXTGen Detroit":MAILTO:nextgendetroit@jfmd.org
GEO:52.4813678;-1.8980725
END:VEVENT
END:VCALENDAR