BEGIN:VCALENDAR
VERSION:2.0
PRODID:-//Jewish Federation of Metropolitan Detroit - ECPv6.9.0//NONSGML v1.0//EN
CALSCALE:GREGORIAN
METHOD:PUBLISH
X-WR-CALNAME:Jewish Federation of Metropolitan Detroit
X-ORIGINAL-URL:https://2019.jewishdetroit.org
X-WR-CALDESC:Events for Jewish Federation of Metropolitan Detroit
REFRESH-INTERVAL;VALUE=DURATION:PT1H
X-Robots-Tag:noindex
X-PUBLISHED-TTL:PT1H
BEGIN:VTIMEZONE
TZID:America/Detroit
BEGIN:DAYLIGHT
TZOFFSETFROM:-0500
TZOFFSETTO:-0400
TZNAME:EDT
DTSTART:20250309T070000
END:DAYLIGHT
BEGIN:STANDARD
TZOFFSETFROM:-0400
TZOFFSETTO:-0500
TZNAME:EST
DTSTART:20251102T060000
END:STANDARD
END:VTIMEZONE
BEGIN:VEVENT
DTSTART;TZID=America/Detroit:20250312T173000
DTEND;TZID=America/Detroit:20250312T190000
DTSTAMP:20260419T173337
CREATED:20250213T170114Z
LAST-MODIFIED:20250312T122219Z
UID:10000395-1741800600-1741806000@2019.jewishdetroit.org
SUMMARY:NEXTGen Detroit Volunteers at Michigan Animal Rescue League
DESCRIPTION:**This event is sold out. Please  **(https://jlive.app/events/10917)**  to register for the waitlist.**\n**﻿**\nJoin NEXTGen Detroit Volunteers as we lend a paw at MARL (Michigan Animal\nRescue League) making enrichment items that provide mental and physical\nexercise\, social interaction and sensory stimulation for the dogs on-site.\nWe’ll also get a tour of the beautiful space and have an opportunity to\ninteract with some of the pups! \nCost is $5 to attend this event.\nPlease RSVP no later than March 10. Space is limited! \nThis event is intended for young adults ages 21 to 39. \nThank you to our chairs: Jeff Sondheimer and Alyse Waldhorn \nView event on Jlive: https://jlive.app/events/10746
URL:https://2019.jewishdetroit.org/event/nextgen-detroit-volunteers-at-michigan-animal-rescue-league/
LOCATION:Michigan Animal Rescue League 790 Featherstone St\, Pontiac
CATEGORIES:NEXTGen Detroit
ATTACH;FMTTYPE=image/jpeg:https://2019.jewishdetroit.org/wp-content/uploads/2025/02/25_NXG_Volunteer-MARL_DigitalBanners_960x600_JLive-o1DTei.tmp_.jpg
ORGANIZER;CN="Jewish Federation NEXTGen Detroit":MAILTO:nextgendetroit@jfmd.org
END:VEVENT
BEGIN:VEVENT
DTSTART;TZID=America/Detroit:20250318T183000
DTEND;TZID=America/Detroit:20250318T203000
DTSTAMP:20260419T173337
CREATED:20250217T214605Z
LAST-MODIFIED:20250318T131737Z
UID:10000398-1742322600-1742329800@2019.jewishdetroit.org
SUMMARY:Entrée 2025: Your Seat at the Table
DESCRIPTION:This is your community to explore and enjoy. So\, what are you waiting for?\nLet’s find you a seat at the table! Join NEXTGen Detroit for Entrée 2025 and\nget a taste of everything that Jewish Detroit has to offer!\nOver four sessions\, we’ll introduce you to NEXTGen Detroit\, Federation\, our\nnetwork of partner agencies and the many flavors and facets of Jewish Detroit.\nMeet other young adults **and** community leaders. Learn about local resources\n**and** programs. Hear how you can get involved **and** give back in Jewish\nDetroit.\nEntrée is intended for young adults ages 21 to 39.\nDietary laws observed at all sessions.\nPlease register in advance by March 11.\nQuestions? Contact Sam at\n(https://mailto:sschwartz@jewishdetroit.org) or\nAmy at\n(https://mailto:rosenfeld@jewishdetorit.org)\n**Session 1: Bold Leadership**\nMarch 18 | 6:30 – 8:30 PM\nWe’ll start with a candid conversation with Federation’s CEO Steven Ingber\,\nNEXTGen Detroit Director Tomer Moked and NEXTGen Detroit President Spencer\nLucker. Learn about Federation’s work as an umbrella organization that\nsupports 16 local and three overseas Jewish agencies\, our current challenges\nand goals and how we are working to take care of the needs of our community’s\nmost vulnerable members and build a vibrant Jewish future. Meet the leaders\nwho are making it happen\, and learn how to start your journey into Jewish\nleadership.\n**Session 2: Diverse Experiences**\nMarch 25 | 6:30 – 8:30 PM\nGet a look behind-the-scenes at the event-planning powerhouse that is NEXTGen\nDetroit. Meet the staff who make all the happy hours\, fundraisers\, networking\nevents\, holiday celebrations and nights out on the town happen. Learn why we\ndouble down on events and programs as a way to build community and our\nstrategy behind building a calendar of things to do in Jewish Detroit.\n**Session 3: Inspired Giving**\nApril 1 | 6:30 – 8:30 PM\nGet inside info on Federation’s Annual Campaign\, how we raise almost $40\nmillion a year\, where all that money goes and how it gets there. Meet a few of\nour agencies and hear how Federation’s support allows them to impact countless\nlives here in Detroit and around the world.\n**Session 4: Find Your Seat at the Table**\nApril 8 | 6:30 – 8:30 PM\nNow that you’re pretty much a Jewish Detroit connoisseur\, it’s time to figure\nout where you want to dig in. We’re laying out a spread of opportunities and\ninviting you to get a sampling of ways you can get involved. Learn about\nleadership opportunities\, chairing events\, joining committees\, volunteering\nwith agencies and more.\n**Thank you to our Leadership:**\nEntrée 2025 Co-Chairs: Daniel Snyder\, Bri Freedman and Mara Levine\nVPs: Samantha Foon and Erica Dovitz\nImmediate Past President: Jennifer Maxbauer\nPresident: Spencer Lucker\nPresident Elect: Andrew Luckoff\nNEXTGen Detroit Director: Tomer Moked\nNEXTGen Detroit Staff: Samantha Schwartz\, Amy Rosenfeld\, Cameron Billes\,\nLindsey Schwartz\, Rachel Jaffe\, Ryan Otis\n**_Entrée 2025 is intended to be a series of conversations\, so we ask that you\nattend all four sessions._  ** \nView event on Jlive: https://jlive.app/events/10828
URL:https://2019.jewishdetroit.org/event/entree-2025-your-seat-at-the-table/
LOCATION:Jewish Federation of Metropolitan Detroit 6735 Telegraph Rd\, Bloomfield Hills
CATEGORIES:NEXTGen Detroit,Young Adults
ATTACH;FMTTYPE=image/jpeg:https://2019.jewishdetroit.org/wp-content/uploads/2025/02/960x600_JLive_1-4s79Qb.tmp_.jpg
ORGANIZER;CN="Jewish Federation NEXTGen Detroit":MAILTO:nextgendetroit@jfmd.org
END:VEVENT
END:VCALENDAR