BEGIN:VCALENDAR
VERSION:2.0
PRODID:-//Jewish Federation of Metropolitan Detroit - ECPv6.9.0//NONSGML v1.0//EN
CALSCALE:GREGORIAN
METHOD:PUBLISH
X-ORIGINAL-URL:https://2019.jewishdetroit.org
X-WR-CALDESC:Events for Jewish Federation of Metropolitan Detroit
REFRESH-INTERVAL;VALUE=DURATION:PT1H
X-Robots-Tag:noindex
X-PUBLISHED-TTL:PT1H
BEGIN:VTIMEZONE
TZID:America/Detroit
BEGIN:DAYLIGHT
TZOFFSETFROM:-0500
TZOFFSETTO:-0400
TZNAME:EDT
DTSTART:20250309T070000
END:DAYLIGHT
BEGIN:STANDARD
TZOFFSETFROM:-0400
TZOFFSETTO:-0500
TZNAME:EST
DTSTART:20251102T060000
END:STANDARD
END:VTIMEZONE
BEGIN:VEVENT
DTSTART;TZID=America/Detroit:20250601T100000
DTEND;TZID=America/Detroit:20250601T120000
DTSTAMP:20260419T113339
CREATED:20250506T183552Z
LAST-MODIFIED:20250529T214605Z
UID:10000428-1748772000-1748779200@2019.jewishdetroit.org
SUMMARY:Shavuot in Israel: A Special Event for Women and Girls
DESCRIPTION:There’s nothing quite like Shavuot on an Israeli kibbutz — the flowers\, the\nwarm summer air\, the farm fresh dairy and produce that fills the holiday\ntable. So\, since we can’t all get to Israel to celebrate the holiday\, we\nthought we’d bring the kibbutz to you! Join Women’s Philanthropy and our\nShinshinit\, Shira R.\, for this special inter-generational event for women and\ngirls (ages 10+). We”ll learn about the traditions of Shavuot as they are\npracticed on kibbutzim throughout the land of Israel\, make flowers crowns\,\nsample delicious food and discuss the many traditions and symbols used to\ncelebrate the holiday. And as in tradition\, we encourage you to come dressed\nin white! \nMitzvah Opportunity: If you have any spare vases that could use a new home\,\nbring them along and we will make flower arrangements in them to gift to\nresidents at Jewish Senior Life. \nTicket includes light Shavuot bites and activities.\nAdults: $25\, Under 18: $15. \nPlease RSVP before May 29 \nThis event is intended for women and girls ages 10 and older.\nDietary laws observed \n**Thank you to our Leadership:**\nAlissa Pianin and Stefanie Aronow\, Event Co-Chairs\nNancy Glen\, WP President \nView event on Jlive: https://jlive.app/events/11609
URL:https://2019.jewishdetroit.org/event/shavuot-in-israel-a-special-event-for-women-and-girls/
LOCATION:Temple Beth El 7400 Telegraph Rd\, Bloomfield Hills
CATEGORIES:Women's Philanthropy
ATTACH;FMTTYPE=image/jpeg:https://2019.jewishdetroit.org/wp-content/uploads/2025/05/25_WP_Israeli_Shavout_DigitalBanners960x600_JLive-78SdAj.tmp_.jpg
ORGANIZER;CN="Jewish Federation Women%E2%80%99s Philanthropy":MAILTO:kaneistein@jfmd.org
END:VEVENT
BEGIN:VEVENT
DTSTART;TZID=America/Detroit:20250605T180000
DTEND;TZID=America/Detroit:20250605T200000
DTSTAMP:20260419T113339
CREATED:20250505T162448Z
LAST-MODIFIED:20250605T184605Z
UID:10000427-1749146400-1749153600@2019.jewishdetroit.org
SUMMARY:ShinShinim Summer Send Off
DESCRIPTION:Come hang out with us as we say _l’hitraot_ (not goodbye!) to our amazing\nShinShinim! \nAfter an incredible year in Detroit\, it’s time to send them off to Tamarack\nand then back to Israel with all the love and energy they’ve brought to our\ncommunity. \nJoin us for a casual\, fun-filled evening to celebrate everything they’ve given\nus—and to wish them well on their next adventure. \nLet’s show them just how much they mean to us! \nThursday\, June 5th at 6 pm at a private residence in Bloomfield Hills.\n(Address will be sent to registrants prior to the event.) \nView event on Jlive: https://jlive.app/events/11536
URL:https://2019.jewishdetroit.org/event/shinshinim-summer-send-off/
LOCATION:TBD Address will be sent to registrants prior to the event\, Bloomfield Hills
CATEGORIES:Israel and Overseas
ATTACH;FMTTYPE=image/jpeg:https://2019.jewishdetroit.org/wp-content/uploads/2025/05/25_IO_Shinshinim_Summer_Sendoff-960x600_JLive-CvNVgG.tmp_.jpg
ORGANIZER;CN="Jewish Federation Israel and Overseas":MAILTO:leket@jfmd.org
END:VEVENT
END:VCALENDAR